BEGIN:VCALENDAR
VERSION:2.0
PRODID:-//openEuler conference calendar
METHOD:CANCEL
BEGIN:VEVENT
SUMMARY:[Cancel] Embedded SIG������
DTSTART:20260423T081500Z
DTEND:20260423T091500Z
DTSTAMP:20260423T081500Z
UID:Tencent225316668
SEQUENCE:2
ATTENDEE:dev@openeuler.org
END:VEVENT
END:VCALENDAR
