BEGIN:VCALENDAR
VERSION:2.0
PRODID:-//openEuler conference calendar
METHOD:REQUEST
BEGIN:VEVENT
SUMMARY:sig-Long������
DTSTART:20260424T070000Z
DTEND:20260424T080000Z
DTSTAMP:20260424T070000Z
UID:WeLink968333840
SEQUENCE:0
ATTENDEE:dev@openeuler.org,tc@openeuler.org
BEGIN:VALARM
ACTION:DISPLAY
DESCRIPTION:Reminder
TRIGGER;RELATED=START:-PT15M
END:VALARM
END:VEVENT
END:VCALENDAR
