BEGIN:VCALENDAR
VERSION:2.0
PRODID:-//openEuler conference calendar
METHOD:REQUEST
BEGIN:VEVENT
SUMMARY:Networking Sig������
DTSTART:20260402T080000Z
DTEND:20260402T083000Z
DTSTAMP:20260402T080000Z
UID:WeLink966348482
SEQUENCE:0
ATTENDEE:networking@openeuler.org
BEGIN:VALARM
ACTION:DISPLAY
DESCRIPTION:Reminder
TRIGGER;RELATED=START:-PT15M
END:VALARM
END:VEVENT
END:VCALENDAR
