BEGIN:VCALENDAR
VERSION:2.0
PRODID:-//openEuler conference calendar
METHOD:REQUEST
BEGIN:VEVENT
SUMMARY:���������AI���������������������������������
DTSTART:20260423T060000Z
DTEND:20260423T063000Z
DTSTAMP:20260423T060000Z
UID:WeLink989582624
SEQUENCE:0
ATTENDEE:tc@openeuler.org
BEGIN:VALARM
ACTION:DISPLAY
DESCRIPTION:Reminder
TRIGGER;RELATED=START:-PT15M
END:VALARM
END:VEVENT
END:VCALENDAR
