BEGIN:VCALENDAR
VERSION:2.0
PRODID:-//openEuler conference calendar
METHOD:REQUEST
BEGIN:VEVENT
SUMMARY:sig-UB-ServiceCore������
DTSTART:20260327T030000Z
DTEND:20260327T040000Z
DTSTAMP:20260327T030000Z
UID:WeLink968639117
SEQUENCE:0
ATTENDEE:dev@openeuler.org,ub-servicecore@openeuler.org
BEGIN:VALARM
ACTION:DISPLAY
DESCRIPTION:Reminder
TRIGGER;RELATED=START:-PT15M
END:VALARM
END:VEVENT
END:VCALENDAR
